BEGIN:VCALENDAR
VERSION:2.0
PRODID:-//eventon.com NONSGML v1.0//EN
CALSCALE:GREGORIAN
METHOD:PUBLISH
BEGIN:VEVENT
UID:69e5fa53610f9
DTSTAMP:20260420T060507
DTSTART:20241005T140000Z
DTEND:20241005T170000Z
TZID:America/New_York
LOCATION:
SUMMARY:House Concert - Akron\,  OH.
DESCRIPTION:\nhttps://brianlisik.com/events/house-concert-akron-oh/
URL:https://brianlisik.com/events/house-concert-akron-oh/
END:VEVENT
END:VCALENDAR