BEGIN:VCALENDAR
VERSION:2.0
PRODID:-//eventon.com NONSGML v1.0//EN
CALSCALE:GREGORIAN
METHOD:PUBLISH
BEGIN:VEVENT
UID:69eb5c219cd9f
DTSTAMP:20260424T080345
DTSTART:20260503T190000Z
DTEND:20260503T230000Z
TZID:America/New_York
LOCATION:
SUMMARY:Clubbas - Wayne\,  OH.
DESCRIPTION:\nhttps://brianlisik.com/events/clubbas-wayne-oh/
URL:https://brianlisik.com/events/clubbas-wayne-oh/
END:VEVENT
END:VCALENDAR